BEGIN:VCALENDAR
VERSION:2.0
PRODID:-//Cranberry’s at Tilley Hall - ECPv6.15.20//NONSGML v1.0//EN
CALSCALE:GREGORIAN
METHOD:PUBLISH
X-ORIGINAL-URL:https://cranberryscafe.com
X-WR-CALDESC:Events for Cranberry’s at Tilley Hall
REFRESH-INTERVAL;VALUE=DURATION:PT1H
X-Robots-Tag:noindex
X-PUBLISHED-TTL:PT1H
BEGIN:VTIMEZONE
TZID:America/New_York
BEGIN:DAYLIGHT
TZOFFSETFROM:-0500
TZOFFSETTO:-0400
TZNAME:EDT
DTSTART:20190310T070000
END:DAYLIGHT
BEGIN:STANDARD
TZOFFSETFROM:-0400
TZOFFSETTO:-0500
TZNAME:EST
DTSTART:20191103T060000
END:STANDARD
BEGIN:DAYLIGHT
TZOFFSETFROM:-0500
TZOFFSETTO:-0400
TZNAME:EDT
DTSTART:20200308T070000
END:DAYLIGHT
BEGIN:STANDARD
TZOFFSETFROM:-0400
TZOFFSETTO:-0500
TZNAME:EST
DTSTART:20201101T060000
END:STANDARD
BEGIN:DAYLIGHT
TZOFFSETFROM:-0500
TZOFFSETTO:-0400
TZNAME:EDT
DTSTART:20210314T070000
END:DAYLIGHT
BEGIN:STANDARD
TZOFFSETFROM:-0400
TZOFFSETTO:-0500
TZNAME:EST
DTSTART:20211107T060000
END:STANDARD
BEGIN:DAYLIGHT
TZOFFSETFROM:-0500
TZOFFSETTO:-0400
TZNAME:EDT
DTSTART:20220313T070000
END:DAYLIGHT
BEGIN:STANDARD
TZOFFSETFROM:-0400
TZOFFSETTO:-0500
TZNAME:EST
DTSTART:20221106T060000
END:STANDARD
BEGIN:DAYLIGHT
TZOFFSETFROM:-0500
TZOFFSETTO:-0400
TZNAME:EDT
DTSTART:20230312T070000
END:DAYLIGHT
BEGIN:STANDARD
TZOFFSETFROM:-0400
TZOFFSETTO:-0500
TZNAME:EST
DTSTART:20231105T060000
END:STANDARD
BEGIN:DAYLIGHT
TZOFFSETFROM:-0500
TZOFFSETTO:-0400
TZNAME:EDT
DTSTART:20240310T070000
END:DAYLIGHT
BEGIN:STANDARD
TZOFFSETFROM:-0400
TZOFFSETTO:-0500
TZNAME:EST
DTSTART:20241103T060000
END:STANDARD
END:VTIMEZONE
BEGIN:VEVENT
DTSTART;TZID=America/New_York:20230214T180000
DTEND;TZID=America/New_York:20230214T200000
DTSTAMP:20260423T155626
CREATED:20230207T023841Z
LAST-MODIFIED:20230207T024145Z
UID:1300-1676397600-1676404800@cranberryscafe.com
SUMMARY:Valentines Day Dinner
DESCRIPTION:Valentines Day Dinner & Live instrumental entertainment (seating at 6:00 pm) \nShare this:\n				Share on X (Opens in new window)\n				X\n			\n				Share on Facebook (Opens in new window)\n				Facebook
URL:https://cranberryscafe.com/events/valentines-day-dinner/
LOCATION:Cranberry’s Cafe\, 1 West Market Street\, Hyde Park\, NY\, 12538\, United States
ORGANIZER;CN="Cranberry's Cafe":MAILTO:chef@cranberryscafe.com
END:VEVENT
BEGIN:VEVENT
DTSTART;TZID=America/New_York:20230211T180000
DTEND;TZID=America/New_York:20230211T200000
DTSTAMP:20260423T155626
CREATED:20230207T023529Z
LAST-MODIFIED:20230207T023529Z
UID:1296-1676138400-1676145600@cranberryscafe.com
SUMMARY:Valentines Dinner
DESCRIPTION:Valentines Dinner seating is at 6:00 pm \nShare this:\n				Share on X (Opens in new window)\n				X\n			\n				Share on Facebook (Opens in new window)\n				Facebook
URL:https://cranberryscafe.com/events/valentines-dinner/
LOCATION:Cranberry’s Cafe\, 1 West Market Street\, Hyde Park\, NY\, 12538\, United States
ORGANIZER;CN="Cranberry's Cafe":MAILTO:chef@cranberryscafe.com
END:VEVENT
BEGIN:VEVENT
DTSTART;TZID=America/New_York:20230210T173000
DTEND;TZID=America/New_York:20230210T200000
DTSTAMP:20260423T155626
CREATED:20230207T023203Z
LAST-MODIFIED:20230207T023351Z
UID:1294-1676050200-1676059200@cranberryscafe.com
SUMMARY:Special Valentines Edition - with entertainment by We Three UNPLUGGED
DESCRIPTION:Share this:\n				Share on X (Opens in new window)\n				X\n			\n				Share on Facebook (Opens in new window)\n				Facebook
URL:https://cranberryscafe.com/events/special-valentines-edition-with-entertainment-by-we-three-unplugged/
LOCATION:Cranberry’s Cafe\, 1 West Market Street\, Hyde Park\, NY\, 12538\, United States
ORGANIZER;CN="Cranberry's Cafe":MAILTO:chef@cranberryscafe.com
END:VEVENT
BEGIN:VEVENT
DTSTART;TZID=America/New_York:20230206T090000
DTEND;TZID=America/New_York:20230206T140000
DTSTAMP:20260423T155626
CREATED:20230207T023656Z
LAST-MODIFIED:20230207T023656Z
UID:1298-1675674000-1675692000@cranberryscafe.com
SUMMARY:Valentines Brunch with added Valentines Specials
DESCRIPTION:Share this:\n				Share on X (Opens in new window)\n				X\n			\n				Share on Facebook (Opens in new window)\n				Facebook
URL:https://cranberryscafe.com/events/valentines-brunch-with-added-valentines-specials/
LOCATION:Cranberry’s Cafe\, 1 West Market Street\, Hyde Park\, NY\, 12538\, United States
ORGANIZER;CN="Cranberry's Cafe":MAILTO:chef@cranberryscafe.com
END:VEVENT
BEGIN:VEVENT
DTSTART;TZID=America/New_York:20221218T150000
DTEND;TZID=America/New_York:20221218T150000
DTSTAMP:20260423T155626
CREATED:20221129T231110Z
LAST-MODIFIED:20221129T232121Z
UID:1269-1671375600-1671375600@cranberryscafe.com
SUMMARY:Cranberry's at Tilley Hall Presents - A Christmas Carol - A Live Radio Play Dinner Theater
DESCRIPTION:Share this:\n				Share on X (Opens in new window)\n				X\n			\n				Share on Facebook (Opens in new window)\n				Facebook
URL:https://cranberryscafe.com/events/cranberrys-at-tilley-hall-presents-a-christmas-carol-a-live-radio-play-dinner-theater-2/
LOCATION:Cranberry’s Cafe\, 1 West Market Street\, Hyde Park\, NY\, 12538\, United States
CATEGORIES:Upcoming events
ORGANIZER;CN="Cranberry's Cafe":MAILTO:chef@cranberryscafe.com
END:VEVENT
BEGIN:VEVENT
DTSTART;TZID=America/New_York:20221217T180000
DTEND;TZID=America/New_York:20221217T203000
DTSTAMP:20260423T155626
CREATED:20221129T231231Z
LAST-MODIFIED:20221129T231611Z
UID:1272-1671300000-1671309000@cranberryscafe.com
SUMMARY:Cranberry's at Tilley Hall Presents - A Christmas Carol - A Live Radio Play Dinner Theater
DESCRIPTION:Share this:\n				Share on X (Opens in new window)\n				X\n			\n				Share on Facebook (Opens in new window)\n				Facebook
URL:https://cranberryscafe.com/events/cranberrys-at-tilley-hall-presents-a-christmas-carol-a-live-radio-play-dinner-theater-3/
LOCATION:Cranberry’s Cafe\, 1 West Market Street\, Hyde Park\, NY\, 12538\, United States
CATEGORIES:Upcoming events
ORGANIZER;CN="Cranberry's Cafe":MAILTO:chef@cranberryscafe.com
END:VEVENT
BEGIN:VEVENT
DTSTART;TZID=America/New_York:20221216T180000
DTEND;TZID=America/New_York:20221216T203000
DTSTAMP:20260423T155626
CREATED:20221129T231558Z
LAST-MODIFIED:20221129T231558Z
UID:1274-1671213600-1671222600@cranberryscafe.com
SUMMARY:Cranberry's at Tilley Hall Presents - A Christmas Carol - A Live Radio Play Dinner Theater
DESCRIPTION:Share this:\n				Share on X (Opens in new window)\n				X\n			\n				Share on Facebook (Opens in new window)\n				Facebook
URL:https://cranberryscafe.com/events/cranberrys-at-tilley-hall-presents-a-christmas-carol-a-live-radio-play-dinner-theater/
LOCATION:Cranberry’s Cafe\, 1 West Market Street\, Hyde Park\, NY\, 12538\, United States
CATEGORIES:Upcoming events
ORGANIZER;CN="Cranberry's Cafe":MAILTO:chef@cranberryscafe.com
END:VEVENT
BEGIN:VEVENT
DTSTART;TZID=America/New_York:20220508T090000
DTEND;TZID=America/New_York:20220508T140000
DTSTAMP:20260423T155626
CREATED:20220502T212910Z
LAST-MODIFIED:20220502T212910Z
UID:1214-1652000400-1652018400@cranberryscafe.com
SUMMARY:Mother's Day Brunch at Cranberry's
DESCRIPTION:Served 9:00 A.M to 2:00 P.M.\n(Cocktails 10:00 A.M. to 2:00 P.M.) \nSTARTERS \nCrab Cakes 12.95 \nGoat Cheese Fritters (w/Fig Sauce) 9.95 \nTruffle Lobster Mac & Cheese 16.95 \nBaked Brie (w/Maple Walnuts\, Cranberries & Crostini) 16.95 \n  \nBRUNCH \nRed Wine Braised Lamb Shanks 29.95\nW/Mashed Potato & Vegetable \nScampi Seafood Platter 29.95\nCod\, Shrimp\, Scallops w/Rice & Vegetable \nStuffed Cornish Game Hen 28.95\nSausage Stuffing\, Mashed Potato & Vegetable \nEggs Benedict 15.95\nA pair of poached eggs on an English muffin w/Canadian Bacon & a rich\, creamy Hollandaise sauce \nOmelet 14.95\n(Spinach & Goat Cheese OR Bacon\, Mushroom & Cheese) w/Home Fries & Toast \nFarmer’s Breakfast 15.95\nTwo eggs\, one pancake\, one French toast\, two strips of bacon\, Home Fries \nGrilled Salmon over Mixed Greens 24.95\nW/Cranberries\, Nuts\, Avocado\, Tomato\, Cucumbers & Balsamic dressing \nBrunch Bacon Cheeseburger 15.95\nServed w/ Coleslaw & Fries \n  \nCOCKTAILS \nMimosa 7.00 • Bloody Mary 9.00 • Moscow Mule 9.00 \nCosmopolitan 9.00\nPeach or Mango or Strawberry Bellini 7.00 \n  \nMenu Subject to Change/Availability \n05082022\n_______________________________ \nShare this:\n				Share on X (Opens in new window)\n				X\n			\n				Share on Facebook (Opens in new window)\n				Facebook
URL:https://cranberryscafe.com/events/mothers-day-brunch-at-cranberrys/
LOCATION:Cranberry’s Cafe\, 1 West Market Street\, Hyde Park\, NY\, 12538\, United States
CATEGORIES:Upcoming events
ORGANIZER;CN="Cranberry's Cafe":MAILTO:chef@cranberryscafe.com
END:VEVENT
BEGIN:VEVENT
DTSTART;TZID=America/New_York:20220417T090000
DTEND;TZID=America/New_York:20220417T150000
DTSTAMP:20260423T155626
CREATED:20220415T213730Z
LAST-MODIFIED:20220415T213730Z
UID:1198-1650186000-1650207600@cranberryscafe.com
SUMMARY:Cranberry’s Easter Sunday Brunch
DESCRIPTION:STARTERS\n Shrimp Cocktail (6 Jumbo) $9.95\nGoat Cheese Fritters (w/Fig Sauce) $9.95\nYogurt Parfait w/Berries & Granola $8.95\nBaked Brie (w/Maple Walnuts\, Cranberries & Crostini) $16.95\nLobster w/Truffles Mac & Cheese $16.95\n\nBRUNCH\nEggs Benedict $14.95\n A pair of poached eggs on an English muffin W/Canadian Bacon & a rich\, creamy Hollandaise sauce  \nBaked Ham $26.95\nW/Mashed Sweet Potatoes & Honey Glazed Carrots \nFlank Steak $28.95\nW/Roasted Potatoes & Creamed Spinach \n Spinach & Goat Cheese Omelet  $13.95\nA two-egg omelet filled with spinach & goat cheese W/Home Fries & Toast  \n\nBacon\, Mushroom & Onion Omelet  $13.95\nA two-egg omelet filled with Bacon\, Mushrooms & Onions W/Home Fries & Toast  \nPair of Cranberry/Walnut Pancakes\, Eggs & Bacon $15.95\nTwo eggs\, two pancakes\, two strips of bacon \nBlueberry/Almond Stuffed French Toast $16.95\nW/Bacon \nVegetable Lasagna $21.95\nServed W/Side salad \nChicken Marsala $24.95\n Served W/ Roasted Potatoes and Side Salad  \nBrunch Bacon Cheeseburger  $15.95\n Served w/ Coleslaw & Fries  \nASSORTED SPECIAL DESSERTS \nCOCKTAILS\n Mimosa $7.00 • Bloody Mary $9.00 • Moscow Mule $9.00 \nCosmopolitan $9.00 • Peach or Mango or Strawberry Bellini $7.00 \n_______________________________ \nShare this:\n				Share on X (Opens in new window)\n				X\n			\n				Share on Facebook (Opens in new window)\n				Facebook
URL:https://cranberryscafe.com/events/cranberrys-easter-sunday-brunch/
LOCATION:Cranberry’s Cafe\, 1 West Market Street\, Hyde Park\, NY\, 12538\, United States
ORGANIZER;CN="Cranberry's Cafe":MAILTO:chef@cranberryscafe.com
END:VEVENT
BEGIN:VEVENT
DTSTART;TZID=America/New_York:20220317T180000
DTEND;TZID=America/New_York:20220317T203000
DTSTAMP:20260423T155626
CREATED:20220310T205315Z
LAST-MODIFIED:20220310T205325Z
UID:1183-1647540000-1647549000@cranberryscafe.com
SUMMARY:Cranberry's St. Patrick's Day
DESCRIPTION:Cranberry’s Irish Dinner and Revue!\nThursday\, March 17\, 2022 – Doors Open at 6:00 P.M.\, Dinner/Revue 6:30 P.M.\n \nA Three Course Meal Blended with a Bit More than a Wee Bit of Entertainment!\n(and that’s no Blarney!)\nStarter – Potato Soup \n Main – Corned Beef & Cabbage OR Cornish Game Hen \n Dessert – Irish Porter Cake   \n Irish Beers & Spirits Available \nInstrumentals & Vocalists Irish Step Dancers \nSing-a-Long \nPrix-Fixe $60.00 per Person (plus tax & gratuity)  \nLimited Seating – By Reservations Only\nCall (845) 229-1957 \n_______________________________ \nShare this:\n				Share on X (Opens in new window)\n				X\n			\n				Share on Facebook (Opens in new window)\n				Facebook
URL:https://cranberryscafe.com/events/cranberrys-st-patricks-day/
LOCATION:Cranberry’s Cafe\, 1 West Market Street\, Hyde Park\, NY\, 12538\, United States
ORGANIZER;CN="Cranberry's Cafe":MAILTO:chef@cranberryscafe.com
END:VEVENT
BEGIN:VEVENT
DTSTART;TZID=America/New_York:20220214T180000
DTEND;TZID=America/New_York:20220214T200000
DTSTAMP:20260423T155626
CREATED:20220207T213533Z
LAST-MODIFIED:20220207T213533Z
UID:1169-1644861600-1644868800@cranberryscafe.com
SUMMARY:Cranberry's Valentine's Dinner
DESCRIPTION:Tableside fresh floral delivery by Affordable Florals available on request \nPrix-Fixe $150.00 per Couple (plus tax & gratuity)\n(Price includes one bottle of select wine)\nBy Reservations Only\nemail: cranberryshp@aol.com\nCall (845) 229-1957 \nAppetizer\n(Choice Of)\nEggplant Rollatini\nJumbo Shrimp Cocktail\nGoat Cheese Fritters\nBaked Brie w/ Cranberries\, Apples\, Walnuts\, Maple Syrup) \nEntrée\n(Choice Of)\nFlank Steak & Panko Scallops\nBacon Wrapped Cornish Hens\nCoconut Shrimp over Pineapple Rice\nVegetable Lasagna \nDessert\n(Choice Of)\nRaspberry Crème Brule\nChocolate Souffle Cake\nAlmond Crème Profiteroles \nShare this:\n				Share on X (Opens in new window)\n				X\n			\n				Share on Facebook (Opens in new window)\n				Facebook
URL:https://cranberryscafe.com/events/cranberrys-valentines-dinner-3/
LOCATION:Cranberry’s Cafe\, 1 West Market Street\, Hyde Park\, NY\, 12538\, United States
CATEGORIES:Upcoming events
ORGANIZER;CN="Cranberry's Cafe":MAILTO:chef@cranberryscafe.com
END:VEVENT
BEGIN:VEVENT
DTSTART;TZID=America/New_York:20220212T183000
DTEND;TZID=America/New_York:20220212T203000
DTSTAMP:20260423T155626
CREATED:20220207T213355Z
LAST-MODIFIED:20220207T213355Z
UID:1167-1644690600-1644697800@cranberryscafe.com
SUMMARY:Cranberry's Valentine's Dinner
DESCRIPTION:Tableside fresh floral delivery by Affordable Florals available on request \nPrix-Fixe $150.00 per Couple (plus tax & gratuity)\n(Price includes one bottle of select wine)\nBy Reservations Only\nemail: cranberryshp@aol.com\nCall (845) 229-1957 \nAppetizer\n(Choice Of)\nEggplant Rollatini\nJumbo Shrimp Cocktail\nGoat Cheese Fritters\nBaked Brie w/ Cranberries\, Apples\, Walnuts\, Maple Syrup) \nEntrée\n(Choice Of)\nFlank Steak & Panko Scallops\nBacon Wrapped Cornish Hens\nCoconut Shrimp over Pineapple Rice\nVegetable Lasagna \nDessert\n(Choice Of)\nRaspberry Crème Brule\nChocolate Souffle Cake\nAlmond Crème Profiteroles \nShare this:\n				Share on X (Opens in new window)\n				X\n			\n				Share on Facebook (Opens in new window)\n				Facebook
URL:https://cranberryscafe.com/events/cranberrys-valentines-dinner-2/
LOCATION:NY
CATEGORIES:Upcoming events
ORGANIZER;CN="Cranberry's Cafe":MAILTO:chef@cranberryscafe.com
END:VEVENT
BEGIN:VEVENT
DTSTART;TZID=America/New_York:20220212T120000
DTEND;TZID=America/New_York:20220212T140000
DTSTAMP:20260423T155626
CREATED:20220204T213711Z
LAST-MODIFIED:20220204T214447Z
UID:1138-1644667200-1644674400@cranberryscafe.com
SUMMARY:Cranberry's Valentine Tea Luncheon & Original Playlet - For the Love of Cora
DESCRIPTION:Saturday\, February 12\, 2022 at 12:00 Noon\n(Seating at 11:45 A.M.) \n1 West Market Street Hyde Park\, N.Y. 12538  \nEnjoy Quiche Lorraine with Garden Salad\, our highly sought-after scones\, jam\, Devonshire Cream\, dessert and endless tea with Table Service and Fine Chinaware along with a performance of an original playlet set in the late 1890’s: \nFor the Love of Cora\nDirected by: Joseph R. Gasparini \n \n(Alcoholic beverage service is available at an additional charge) \nBy Reservations Only\nemail: jccordier01 @gmail.com\nCall/Text (845) 591-8801 \nShare this:\n				Share on X (Opens in new window)\n				X\n			\n				Share on Facebook (Opens in new window)\n				Facebook
URL:https://cranberryscafe.com/events/cranberrys-valentine-tea-luncheon-original-playlet-for-the-love-of-cora/
LOCATION:Cranberry’s Cafe\, 1 West Market Street\, Hyde Park\, NY\, 12538\, United States
CATEGORIES:Upcoming events
ORGANIZER;CN="Cranberry's Cafe":MAILTO:chef@cranberryscafe.com
END:VEVENT
BEGIN:VEVENT
DTSTART;TZID=America/New_York:20220211T180000
DTEND;TZID=America/New_York:20220211T200000
DTSTAMP:20260423T155626
CREATED:20220207T212917Z
LAST-MODIFIED:20220207T213124Z
UID:1165-1644602400-1644609600@cranberryscafe.com
SUMMARY:Cranberry's Valentine's Dinner
DESCRIPTION:Tableside fresh floral delivery by Affordable Florals available on request  \nPrix-Fixe $150.00 per Couple (plus tax & gratuity)\n(Price includes one bottle of select wine)\nBy Reservations Only\nemail: cranberryshp@aol.com\nCall (845) 229-1957  \nAppetizer\n(Choice Of) \nEggplant Rollatini\nJumbo Shrimp Cocktail\nGoat Cheese Fritters\nBaked Brie w/ Cranberries\, Apples\, Walnuts\, Maple Syrup)  \nEntrée\n(Choice Of) \nFlank Steak & Panko Scallops\nBacon Wrapped Cornish Hens\nCoconut Shrimp over Pineapple Rice\nVegetable Lasagna  \nDessert\n(Choice Of) \nRaspberry Crème Brule\nChocolate Souffle Cake\nAlmond Crème Profiteroles  \nShare this:\n				Share on X (Opens in new window)\n				X\n			\n				Share on Facebook (Opens in new window)\n				Facebook
URL:https://cranberryscafe.com/events/cranberrys-valentines-dinner/
LOCATION:Cranberry’s Cafe\, 1 West Market Street\, Hyde Park\, NY\, 12538\, United States
CATEGORIES:Upcoming events
ORGANIZER;CN="Cranberry's Cafe":MAILTO:chef@cranberryscafe.com
END:VEVENT
BEGIN:VEVENT
DTSTART;TZID=America/New_York:20211220T180000
DTEND;TZID=America/New_York:20211220T203000
DTSTAMP:20260423T155626
CREATED:20211206T171128Z
LAST-MODIFIED:20211208T222452Z
UID:1101-1640023200-1640032200@cranberryscafe.com
SUMMARY:Cranberry's Dickens Dinner Event
DESCRIPTION:Monday December 20\, 2021 Seating at 6:00 P.M.\n‘Tis the season to enjoy a holiday meal along with an entertaining performance right here in our WCTH radio studio! Our Dickens dinner event consists of a three course Mrs. Cratchit style meal along with a live 1940’s radio show style reading of \nCharles Dickens’\nA Christmas Carol\nDirected by: Joseph R. Gasparini of the New Deal Creative Arts Center \nMrs. Cratchit’s Three Course Meal\n– Roasted Winter Squash Soup\n– Roasted Turkey\nOnion/Sage Stuffing\, Duchess Potatoes\, Glazed Carrots\, and Cranberry Chutney\n– Christmas Pudding\n(Alcoholic beverage service is available at an additional charge)\n\nPrix-Fixe $60.00 per Person (plus tax & gratuity)\nLimited Seating – by Reservation Only\nCall 845-229-1957\nShare this:\n				Share on X (Opens in new window)\n				X\n			\n				Share on Facebook (Opens in new window)\n				Facebook
URL:https://cranberryscafe.com/events/cranberrys-dickens-dinner-event-2/
LOCATION:Cranberry’s Cafe\, 1 West Market Street\, Hyde Park\, NY\, 12538\, United States
END:VEVENT
BEGIN:VEVENT
DTSTART;TZID=America/New_York:20211217T180000
DTEND;TZID=America/New_York:20211217T203000
DTSTAMP:20260423T155626
CREATED:20211206T170929Z
LAST-MODIFIED:20211208T222420Z
UID:1098-1639764000-1639773000@cranberryscafe.com
SUMMARY:Cranberry's Dickens Dinner Event
DESCRIPTION: Friday December 17\, 2021 AND Monday December 20\, 2021 Seating at 6:00 P.M.\n‘Tis the season to enjoy a holiday meal along with an entertaining performance right here in our WCTH radio studio! Our Dickens dinner event consists of a three course Mrs. Cratchit style meal along with a live 1940’s radio show style reading of \nCharles Dickens’\nA Christmas Carol\nDirected by: Joseph R. Gasparini of the New Deal Creative Arts Center \nMrs. Cratchit’s Three Course Meal\n– Roasted Winter Squash Soup\n– Roasted Turkey\nOnion/Sage Stuffing\, Duchess Potatoes\, Glazed Carrots\, and Cranberry Chutney\n– Christmas Pudding\n(Alcoholic beverage service is available at an additional charge)\n\nPrix-Fixe $60.00 per Person (plus tax & gratuity)\nLimited Seating – by Reservation Only\nCall 845-229-1957\nShare this:\n				Share on X (Opens in new window)\n				X\n			\n				Share on Facebook (Opens in new window)\n				Facebook
URL:https://cranberryscafe.com/events/cranberrys-dickens-dinner-event/
LOCATION:Cranberry’s Cafe\, 1 West Market Street\, Hyde Park\, NY\, 12538\, United States
END:VEVENT
BEGIN:VEVENT
DTSTART;TZID=America/New_York:20211120T190000
DTEND;TZID=America/New_York:20211120T210000
DTSTAMP:20260423T155626
CREATED:20211102T140055Z
LAST-MODIFIED:20211102T140057Z
UID:1065-1637434800-1637442000@cranberryscafe.com
SUMMARY:Wine Pairing Event
DESCRIPTION:1 West Market St.\nHyde Park\, N.Y. 12538\nSaturday November 20\, 2021 – Seating at 7:00 P.M.\nPrix-Fixe $89.95 per Person (plus tax & gratuity)\nLimited Seating – By Reservation Only\nCall (845) 229-1957\n\nFour Unique Food Courses\n\nFried Calamari\nPorcini Mushroom Lasagna\nOsso Bucco (w/Risotto)\nLemon Mascarpone Cake (w/lemon gelato)\n\nFour Great Wines\n\nFiorini Terre Sole Dry Lambrusco ’20\nSaraceni Salento Rosso ’18\nSalcheto “Salcho Evoluzione” Vino Nobile ’13\nLina’s Crema di Limoncello\n\nCranberry’s welcomes talented guest speaker Marta Marchetti-Kandl of the former Marta’s Vineyard Fine Wine and Spirit store in Poughkeepsie\, to our Wine Pairing Event!! She holds the Certified Specialist of Wine title with the Society of Wine Educators and is also a Diploma (Level 4) graduate of the Wine and Spirit Education Trust. Her goal is to encourage the people of the Mid-Hudson Valley to broaden their horizons and embrace new wine styles to achieve the most from their food and wine expenence. \nShare this:\n				Share on X (Opens in new window)\n				X\n			\n				Share on Facebook (Opens in new window)\n				Facebook
URL:https://cranberryscafe.com/events/wine-pairing-event/
LOCATION:Cranberry’s Cafe\, 1 West Market Street\, Hyde Park\, NY\, 12538\, United States
CATEGORIES:Upcoming events
ORGANIZER;CN="Cranberry's Cafe":MAILTO:chef@cranberryscafe.com
END:VEVENT
BEGIN:VEVENT
DTSTART;TZID=America/New_York:20211016T120000
DTEND;TZID=America/New_York:20211016T150000
DTSTAMP:20260423T155626
CREATED:20211012T233214Z
LAST-MODIFIED:20211012T233305Z
UID:1031-1634385600-1634396400@cranberryscafe.com
SUMMARY:Cranberry's Victorian Tea & Original Playlet
DESCRIPTION:Share this:\n				Share on X (Opens in new window)\n				X\n			\n				Share on Facebook (Opens in new window)\n				Facebook
URL:https://cranberryscafe.com/events/cranberrys-victorian-tea-original-playlet/
LOCATION:Cranberry’s Cafe\, 1 West Market Street\, Hyde Park\, NY\, 12538\, United States
CATEGORIES:Upcoming events
END:VEVENT
BEGIN:VEVENT
DTSTART;TZID=America/New_York:20200712T152815
DTEND;TZID=America/New_York:20200712T152815
DTSTAMP:20260423T155626
CREATED:20200228T031946Z
LAST-MODIFIED:20200712T152813Z
UID:471-1594567695-1594567695@cranberryscafe.com
SUMMARY:Cranberry’s Wine Pairing Event
DESCRIPTION:Four Unique Food Courses..Four Great Wines  \nJoin guest speaker Marta Marchetti-Kandl\, owner of Marta’s Vineyard Fine Wine and Spirit store in Poughkeepsie as she leads us through our first Wine Pairing Event.  She holds the Certified Specialist on Wine title with the Society of Wine Educators and is also a Diploma (Level 4) graduate of the Wine and Spirit Education Trust.  A fun evening learning how to embrace new wine styles to achieve the most from your food and wine experience.  The Wine Pairing events will resume when COVID requirements can be accommodated. \nShare this:\n				Share on X (Opens in new window)\n				X\n			\n				Share on Facebook (Opens in new window)\n				Facebook
URL:https://cranberryscafe.com/events/cranberrys-wine-pairing-event/
LOCATION:NY
CATEGORIES:Upcoming events
ATTACH;FMTTYPE=image/jpeg:https://cranberryscafe.com/wp-content/uploads/2020/02/Wine-Pairing-Web-Picture-02292020-pass-3.jpg
ORGANIZER;CN="Cranberry's Cafe":MAILTO:chef@cranberryscafe.com
END:VEVENT
BEGIN:VEVENT
DTSTART;TZID=America/New_York:20200712T152448
DTEND;TZID=America/New_York:20200712T152448
DTSTAMP:20260423T155626
CREATED:20200301T160631Z
LAST-MODIFIED:20200712T152444Z
UID:523-1594567488-1594567488@cranberryscafe.com
SUMMARY:"Victorian Tea"
DESCRIPTION:Enjoy a variety of flavorful fancy tea sandwiches\, our highly sought-after scones\, jam. Devonshire Cream\, dessert and endless tea with Table Service and Fine Chinaware.  The “Victorian Tea” will resume when COVID requirements can be accommodated. \nShare this:\n				Share on X (Opens in new window)\n				X\n			\n				Share on Facebook (Opens in new window)\n				Facebook
URL:https://cranberryscafe.com/events/victorian-tea-2/
LOCATION:NY
CATEGORIES:Upcoming events
ATTACH;FMTTYPE=image/jpeg:https://cranberryscafe.com/wp-content/uploads/2020/03/Tea-Service-scaled.jpg
ORGANIZER;CN="Cranberry's Cafe":MAILTO:chef@cranberryscafe.com
END:VEVENT
END:VCALENDAR