BEGIN:VCALENDAR
VERSION:2.0
PRODID:-//Cranberry’s at Tilley Hall - ECPv6.15.20//NONSGML v1.0//EN
CALSCALE:GREGORIAN
METHOD:PUBLISH
X-WR-CALNAME:Cranberry’s at Tilley Hall
X-ORIGINAL-URL:https://cranberryscafe.com
X-WR-CALDESC:Events for Cranberry’s at Tilley Hall
REFRESH-INTERVAL;VALUE=DURATION:PT1H
X-Robots-Tag:noindex
X-PUBLISHED-TTL:PT1H
BEGIN:VTIMEZONE
TZID:America/New_York
BEGIN:DAYLIGHT
TZOFFSETFROM:-0500
TZOFFSETTO:-0400
TZNAME:EDT
DTSTART:20240310T070000
END:DAYLIGHT
BEGIN:STANDARD
TZOFFSETFROM:-0400
TZOFFSETTO:-0500
TZNAME:EST
DTSTART:20241103T060000
END:STANDARD
BEGIN:DAYLIGHT
TZOFFSETFROM:-0500
TZOFFSETTO:-0400
TZNAME:EDT
DTSTART:20250309T070000
END:DAYLIGHT
BEGIN:STANDARD
TZOFFSETFROM:-0400
TZOFFSETTO:-0500
TZNAME:EST
DTSTART:20251102T060000
END:STANDARD
BEGIN:DAYLIGHT
TZOFFSETFROM:-0500
TZOFFSETTO:-0400
TZNAME:EDT
DTSTART:20260308T070000
END:DAYLIGHT
BEGIN:STANDARD
TZOFFSETFROM:-0400
TZOFFSETTO:-0500
TZNAME:EST
DTSTART:20261101T060000
END:STANDARD
BEGIN:DAYLIGHT
TZOFFSETFROM:-0500
TZOFFSETTO:-0400
TZNAME:EDT
DTSTART:20270314T070000
END:DAYLIGHT
BEGIN:STANDARD
TZOFFSETFROM:-0400
TZOFFSETTO:-0500
TZNAME:EST
DTSTART:20271107T060000
END:STANDARD
END:VTIMEZONE
BEGIN:VEVENT
DTSTART;TZID=America/New_York:20250926T180000
DTEND;TZID=America/New_York:20250926T200000
DTSTAMP:20260424T085210
CREATED:20250913T020528Z
LAST-MODIFIED:20250913T020528Z
UID:1513-1758909600-1758916800@cranberryscafe.com
SUMMARY:The Three D's Dinner Show
DESCRIPTION:Appetizer:\nGoat Cheese Fritter with Fig Sauce \nMain Course:\nSmoked Pork Loin with Honey Dijon Mustard Sauce served with Sweet potato and Brussels Sprouts \nor \nHarvest chicken with Apple Reduction Sauce served with Wild Rice Pilaf with Broccoli and Carrots \nDessert:\nApple Blossom served with Vanilla Ice Cream and Caramel Sauce \nCornbread with Butter\, Coffee\, Tea and Dessert are Included \nReservation Only\n845-229-1957 or 845-591-8801 \nFriday\, September 26th at 6:00pm \n  \nShare this:\n				Share on X (Opens in new window)\n				X\n			\n				Share on Facebook (Opens in new window)\n				Facebook
URL:https://cranberryscafe.com/events/the-three-ds-dinner-show/
LOCATION:Cranberry’s Cafe\, 1 West Market Street\, Hyde Park\, NY\, 12538\, United States
ORGANIZER;CN="Cranberry's Cafe":MAILTO:chef@cranberryscafe.com
END:VEVENT
BEGIN:VEVENT
DTSTART;TZID=America/New_York:20260119T100000
DTEND;TZID=America/New_York:20260119T123000
DTSTAMP:20260424T085210
CREATED:20260105T011227Z
LAST-MODIFIED:20260105T011227Z
UID:1544-1768816800-1768825800@cranberryscafe.com
SUMMARY:Step Into a Winter Wonderland
DESCRIPTION:Share this:\n				Share on X (Opens in new window)\n				X\n			\n				Share on Facebook (Opens in new window)\n				Facebook
URL:https://cranberryscafe.com/events/step-into-a-winter-wonderland/
LOCATION:Cranberry’s Cafe\, 1 West Market Street\, Hyde Park\, NY\, 12538\, United States
ORGANIZER;CN="Cranberry's Cafe":MAILTO:chef@cranberryscafe.com
END:VEVENT
BEGIN:VEVENT
DTSTART;TZID=America/New_York:20260523T113000
DTEND;TZID=America/New_York:20260523T140000
DTSTAMP:20260424T085210
CREATED:20260422T015848Z
LAST-MODIFIED:20260422T020000Z
UID:1573-1779535800-1779544800@cranberryscafe.com
SUMMARY:Victorian Tea Event
DESCRIPTION:Step into an afternoon of elegance where the charm of a Victorian tea party meets a luxurious\, personalized skincare experience. Delicate china\, soft linens\, and the soothing aroma of freshly brewed tea set the tone for a relaxing escape.\n\nGuests will enjoy a delightful selection of fresh greens\, petite chicken salad croissants\, pinwheel sandwiches\, warm scones\, and delicious dessert. Each bite is meant to be savored as you unwind and enjoy the moment.\n\nThe highlight of the experience is the Mary Kay Hydraglow Facial\, designed to deeply hydrate and refresh your skin\, leaving you with a radiant glow. This treatment is paired with soothing hand and lip therapies for the ultimate touch of pampering.\n\nRelax\, recharge\, and enjoy a beautiful blend of self-care and sophistication.\n\nMary Kay Skincare Completely Complimentary!!!\nTea- $39.99\nReservations REQUIRED\nContact Christina-845-591-8802 ASAP!\nShare this:\n				Share on X (Opens in new window)\n				X\n			\n				Share on Facebook (Opens in new window)\n				Facebook
URL:https://cranberryscafe.com/events/victorian-tea-event/
LOCATION:Cranberry’s Cafe\, 1 West Market Street\, Hyde Park\, NY\, 12538\, United States
ORGANIZER;CN="Cranberry's Cafe":MAILTO:chef@cranberryscafe.com
END:VEVENT
END:VCALENDAR