BEGIN:VCALENDAR
VERSION:2.0
PRODID:-//Cranberry’s at Tilley Hall - ECPv6.15.20//NONSGML v1.0//EN
CALSCALE:GREGORIAN
METHOD:PUBLISH
X-WR-CALNAME:Cranberry’s at Tilley Hall
X-ORIGINAL-URL:https://cranberryscafe.com
X-WR-CALDESC:Events for Cranberry’s at Tilley Hall
REFRESH-INTERVAL;VALUE=DURATION:PT1H
X-Robots-Tag:noindex
X-PUBLISHED-TTL:PT1H
BEGIN:VTIMEZONE
TZID:America/New_York
BEGIN:DAYLIGHT
TZOFFSETFROM:-0500
TZOFFSETTO:-0400
TZNAME:EDT
DTSTART:20220313T070000
END:DAYLIGHT
BEGIN:STANDARD
TZOFFSETFROM:-0400
TZOFFSETTO:-0500
TZNAME:EST
DTSTART:20221106T060000
END:STANDARD
BEGIN:DAYLIGHT
TZOFFSETFROM:-0500
TZOFFSETTO:-0400
TZNAME:EDT
DTSTART:20230312T070000
END:DAYLIGHT
BEGIN:STANDARD
TZOFFSETFROM:-0400
TZOFFSETTO:-0500
TZNAME:EST
DTSTART:20231105T060000
END:STANDARD
BEGIN:DAYLIGHT
TZOFFSETFROM:-0500
TZOFFSETTO:-0400
TZNAME:EDT
DTSTART:20240310T070000
END:DAYLIGHT
BEGIN:STANDARD
TZOFFSETFROM:-0400
TZOFFSETTO:-0500
TZNAME:EST
DTSTART:20241103T060000
END:STANDARD
END:VTIMEZONE
BEGIN:VEVENT
DTSTART;TZID=America/New_York:20231021T090000
DTEND;TZID=America/New_York:20231021T120000
DTSTAMP:20260425T121925
CREATED:20231014T161600Z
LAST-MODIFIED:20231014T161601Z
UID:1360-1697878800-1697889600@cranberryscafe.com
SUMMARY:Brunch & Beauty - The Ultimate Pampering Experience
DESCRIPTION:$69.00 Single Ticket\nOnly $39.99 Per Person for groups of 2 or More! \nShare this:\n				Share on X (Opens in new window)\n				X\n			\n				Share on Facebook (Opens in new window)\n				Facebook
URL:https://cranberryscafe.com/events/brunch-beauty-the-ultimate-pampering-experience/
LOCATION:Cranberry’s Cafe\, 1 West Market Street\, Hyde Park\, NY\, 12538\, United States
CATEGORIES:Upcoming events
ORGANIZER;CN="Cranberry's Cafe":MAILTO:chef@cranberryscafe.com
END:VEVENT
END:VCALENDAR